BEGIN:VCALENDAR
VERSION:2.0
METHOD:PUBLISH
BEGIN:VEVENT
DTSTART:20251003T100000
DTEND:20251003T150000
LOCATION:Siedziba AEDMAX.PL Sokołowska 47C  Sokołów k.Warszawy
TRANSP: OPAQUE
SEQUENCE:0
UID:
DTSTAMP:20260424T184006Z
SUMMARY:Odpowiedzialność, która ratuje życie - AED i Bezpieczeństwo w Twojej Firmie
DESCRIPTION:📋 Warsztaty pierwszej pomocy z naciskiem na realne zagrożenia w pracy📣 Zapraszamy na bezpłatne, praktyczne warsztaty z pierwszej pomocy, zaprojektowane specjalnie z myślą o osobach......
URL:https://app.evenea.pl/event/03pazdziernikabhp/
PRIORITY:1
CLASS:PUBLIC
END:VEVENT
END:VCALENDAR
