BEGIN:VCALENDAR
VERSION:2.0
METHOD:PUBLISH
BEGIN:VEVENT
DTSTART:20251210T180000
DTEND:20251210T180000
LOCATION:Centrum Konferencyjne Westgate al. Jerozolimskie 92  Warszawa
TRANSP: OPAQUE
SEQUENCE:0
UID:
DTSTAMP:20260421T204147Z
SUMMARY:Forever Winter Growth Warszawa 10.12.2025r.
DESCRIPTION:10 grudnia Warszawa, Centrum Konferencyjne Westgate, al.Jerozolimskie 92, godz: 18:00Prelegenci:Szansa na Biznes - Sapphire Manager Monika WalkiewiczZaangażowanie i systematyczność w biznesie......
URL:https://app.evenea.pl/event/10122025/
PRIORITY:1
CLASS:PUBLIC
END:VEVENT
END:VCALENDAR
