BEGIN:VCALENDAR
VERSION:2.0
METHOD:PUBLISH
BEGIN:VEVENT
DTSTART:20231019T090000
DTEND:20231019T090000
LOCATION:Falk1 Rendezvényközpont Falk Miksa u. 1  1055 Budapest
TRANSP: OPAQUE
SEQUENCE:0
UID:
DTSTAMP:20260420T201722Z
SUMMARY:10th Baltic-Adriatic Forum
DESCRIPTION: Association of Polish Regions of the Transport Corridor Baltic Adriatic brings together seven Polish regions located along the corridor. In its activities, it strives to strengthen the north-south......
URL:https://app.evenea.pl/event/10thbalticadriaticforum/
PRIORITY:1
CLASS:PUBLIC
END:VEVENT
END:VCALENDAR
