BEGIN:VCALENDAR
VERSION:2.0
METHOD:PUBLISH
BEGIN:VEVENT
DTSTART:20241024T090000
DTEND:20241024T090000
LOCATION:Grand Koper Hotel Pristaniška ulica 3  Koper Slovenia
TRANSP: OPAQUE
SEQUENCE:0
UID:
DTSTAMP:20260420T183028Z
SUMMARY:11th Baltic-Adriatic Forum
DESCRIPTION: Association of Polish Regions of the Transport Corridor Baltic Adriatic brings together seven Polish regions located along the corridor. In its activities, it strives to strengthen the north-south......
URL:https://app.evenea.pl/event/11thbalticadriatic/
PRIORITY:1
CLASS:PUBLIC
END:VEVENT
END:VCALENDAR
