BEGIN:VCALENDAR
VERSION:2.0
METHOD:PUBLISH
BEGIN:VEVENT
DTSTART:20231024T170000
DTEND:20231024T170000
LOCATION:Centrum Bankietowo-Cateringowe Atelia Al. Warszawska 175a  Lublin
TRANSP: OPAQUE
SEQUENCE:0
UID:
DTSTAMP:20260424T093230Z
SUMMARY:💥130 edycja 💥 Klubu Odpowiedzialnego Biznesu "Sport i biznes"
DESCRIPTION:Z okazji jubileuszowego spotkania Klubu Odpowiedzialnego Biznesu, Giełda Eventów wraz z Klubowiczami ma przyjemność zaprosić zapraszamy Państwa na Konferencję "Sport i biznes " połączoną......
URL:https://app.evenea.pl/event/130kob/
PRIORITY:1
CLASS:PUBLIC
END:VEVENT
END:VCALENDAR
