BEGIN:VCALENDAR
VERSION:2.0
METHOD:PUBLISH
BEGIN:VEVENT
DTSTART:20250414T110000
DTEND:20250414T110000
LOCATION:Wydział Prawa i Administracji UMK w Toruniu ul. Władysława Bojarskiego 3  Toruń
TRANSP: OPAQUE
SEQUENCE:0
UID:
DTSTAMP:20260420T124506Z
SUMMARY:Warsztaty dla Studentów oraz Doktorantów Uniwersytetu Mikołaja Kopernika w Toruniu!
DESCRIPTION:STARTOVA razem z Centrum Przedsiębiorczości Akademickiej i Transferu Technologii UMK i Wydziałem Prawa i Administracji UMK w Toruniu zaprasza na warsztaty, podczas których ekspertka Mazovian......
URL:https://app.evenea.pl/event/14042025/
PRIORITY:1
CLASS:PUBLIC
END:VEVENT
END:VCALENDAR
