BEGIN:VCALENDAR
VERSION:2.0
METHOD:PUBLISH
BEGIN:VEVENT
DTSTART:20220622T170000
DTEND:20220622T170000
LOCATION:Hotel Magnus Resort Juliana Fałata 222  Bystra
TRANSP: OPAQUE
SEQUENCE:0
UID:
DTSTAMP:20260421T233632Z
SUMMARY:Networking na najwyższym poziomie
DESCRIPTION:Największe w pełni moderowane wydarzenie networkingowe na Podbeskidziu, przyjdź na spotkanie i zobacz w jaki sposób networking może zmienić Twoją drogę biznesową. Zostanie poprowadzone......
URL:https://app.evenea.pl/event/141075-1/
PRIORITY:1
CLASS:PUBLIC
END:VEVENT
END:VCALENDAR
