BEGIN:VCALENDAR
VERSION:2.0
METHOD:PUBLISH
BEGIN:VEVENT
DTSTART:20191009T093000
DTEND:20191009T170000
LOCATION:Warszawa   
TRANSP: OPAQUE
SEQUENCE:0
UID:
DTSTAMP:20260423T225558Z
SUMMARY:Szkolenie dla menedżerów: KOMPETENCJE EMOCJONALNE W BIZNESIE I W ŻYCIU. Jak zjednywać sobie ludzi i budować trwałe relacje?
DESCRIPTION:Dla kogo jest ten warsztat?Dla menedżerów wszystkich szczebli zarządzania, którzy pełnią role liderów i zarządzają zespołami.Dla osób, którzy przygotowują się do pełnienia roli......
URL:https://app.evenea.pl/event/146704-17/
PRIORITY:1
CLASS:PUBLIC
END:VEVENT
END:VCALENDAR
