BEGIN:VCALENDAR
VERSION:2.0
METHOD:PUBLISH
BEGIN:VEVENT
DTSTART:20230427T130000
DTEND:20230427T130000
LOCATION:Pomorska Biblioteka Pedagogiczna w Słupsku Jaracza 18a  Słupsk
TRANSP: OPAQUE
SEQUENCE:0
UID:
DTSTAMP:20260419T214021Z
SUMMARY:Spotkanie otwarte z prof. Jerzym Bralczykiem i Michałem Ogórkiem "Co nas śmieszy, co nas straszy czyli czy we współczesnym świecie jest bardziej "śmieszno" czy bardziej "straszno" " w ramach XXIX PWL
DESCRIPTION:Zapraszamy Państwa do udziału w spotkaniu otwartym w ramach XXIX Pomorskiej Wiosny Literackiej z prof. Jerzym Bralczykiem i Michałem Ogórkiem "Co nas śmieszy, co nas straszy czyli czy we......
URL:https://app.evenea.pl/event/163375-19/
PRIORITY:1
CLASS:PUBLIC
END:VEVENT
END:VCALENDAR
