BEGIN:VCALENDAR
VERSION:2.0
METHOD:PUBLISH
BEGIN:VEVENT
DTSTART:20260421T100000
DTEND:20260421T100000
LOCATION:Pomorska Biblioteka Pedagogiczna Jaracza 18a  Słupsk
TRANSP: OPAQUE
SEQUENCE:0
UID:
DTSTAMP:20260420T041204Z
SUMMARY:Spotkanie otwarte z dr Elizą Kącką laureatką Nagrody Literackiej Nike 2025
DESCRIPTION:Zapraszamy Państwa do udziału w spotkaniu otwartym w ramach XXXII Pomorskiej Wiosny Literackiej z dr Elizą Kącką laureatką Nagrody Literackiej Nike 2025, które odbędzie się 21 kwietnia......
URL:https://app.evenea.pl/event/163375-25/
PRIORITY:1
CLASS:PUBLIC
END:VEVENT
END:VCALENDAR
