BEGIN:VCALENDAR
VERSION:2.0
METHOD:PUBLISH
BEGIN:VEVENT
DTSTART:20190808T123000
DTEND:20190811T180000
LOCATION:Miejsce zostanie wysłane uczestnikom szkolenia ul.Bohaterów Monte Cassino  Sopot
TRANSP: OPAQUE
SEQUENCE:0
UID:
DTSTAMP:20260425T174804Z
SUMMARY:Kurs Uwodzenia NLS - 8-11 sierpnia w Sopocie
DESCRIPTION:Zapraszamy na wakacyjne 4 dniowe szkolenie z Uwodzenia Kobiet - 8-11 sierpnia 2019r w SopocieJesteś tu pierwszy raz i chciałbyś dowiedzieć się więcej o NLS?Przeczytaj książkę napisaną......
URL:https://app.evenea.pl/event/16lat-nls-camp2/
PRIORITY:1
CLASS:PUBLIC
END:VEVENT
END:VCALENDAR
