BEGIN:VCALENDAR
VERSION:2.0
METHOD:PUBLISH
BEGIN:VEVENT
DTSTART:20221230T200500
DTEND:20221230T200500
LOCATION:Radio Gdańsk Aleja Grunwaldzka 18, Gdańsk  
TRANSP: OPAQUE
SEQUENCE:0
UID:
DTSTAMP:20260421T132628Z
SUMMARY:Metropolia Jest Okey / Koncert Jakub Hajdun Trio w Radiu Gdańsk / 30 grudnia, 20:05
DESCRIPTION:Zapraszamy na koncert Jakub Hajdun Trio, odbywający się ramach 16. Festiwalu Metropolia Jest Okey. Jakub Hajdun (1991) - pianista, absolwent Akademii Muzycznej im. Stanisława Moniuszki w......
URL:https://app.evenea.pl/event/16mjojhtrio/
PRIORITY:1
CLASS:PUBLIC
END:VEVENT
END:VCALENDAR
