BEGIN:VCALENDAR
VERSION:2.0
METHOD:PUBLISH
BEGIN:VEVENT
DTSTART:20251018T100000
DTEND:20251019T170000
LOCATION:ZEN.COM Expo Jasionka 953  Jasionka
TRANSP: OPAQUE
SEQUENCE:0
UID:
DTSTAMP:20260423T204953Z
SUMMARY:Targi Carpathia Hunting & Guns 18-19.10.2025
DESCRIPTION:Największe na Podkarpaciu, jedyne i niepowtarzalne "Targi Carpathia Hunting &amp; Guns" po raz szósty, tradycyjnie w ZEN.COM Expo!!Zapraszamy na VI edycję - 18-19 października 2025!Tegoroczne......
URL:https://app.evenea.pl/event/18-19/
PRIORITY:1
CLASS:PUBLIC
END:VEVENT
END:VCALENDAR
