BEGIN:VCALENDAR
VERSION:2.0
METHOD:PUBLISH
BEGIN:VEVENT
DTSTART:20251118T180000
DTEND:20251118T180000
LOCATION:Haston City Hotel ul.Irysowa 1-3  Wrocław
TRANSP: OPAQUE
SEQUENCE:0
UID:
DTSTAMP:20260421T204153Z
SUMMARY:Forever Winter Growth Wrocław 18.11.2025r.
DESCRIPTION:18 listopada, Wrocław Haston City Hotel, ul.Irysowa 1- 3, godz: 18:00 Prelegenci:Dyrektor Jacek KandeferKosmetolog Katarzyna JaniczekLiderzy ForeverGOŚĆ SPECJALNY: Paweł Zagumny - siatkarz;......
URL:https://app.evenea.pl/event/18112025/
PRIORITY:1
CLASS:PUBLIC
END:VEVENT
END:VCALENDAR
