BEGIN:VCALENDAR
VERSION:2.0
METHOD:PUBLISH
BEGIN:VEVENT
DTSTART:20200123T170000
DTEND:20200123T170000
LOCATION:Instytut Dizajnu Zamkowa 3  25-333
TRANSP: OPAQUE
SEQUENCE:0
UID:
DTSTAMP:20260424T052216Z
SUMMARY:Lampki oliwne
DESCRIPTION:Serdecznie zapraszamy na pierwsze w tym roku warsztaty ceramiczne, które odbędą się w dn. 23.01.20 r. o godz. 17:00. Zajęcia przeznaczone są dla dorosłych. Na warsztatach będziemy tworzyć......
URL:https://app.evenea.pl/event/18155-90/
PRIORITY:1
CLASS:PUBLIC
END:VEVENT
END:VCALENDAR
