BEGIN:VCALENDAR
VERSION:2.0
METHOD:PUBLISH
BEGIN:VEVENT
DTSTART:20200229T110000
DTEND:20200229T110000
LOCATION:Instytut Dizajnu Zamkowa 3  25-009
TRANSP: OPAQUE
SEQUENCE:0
UID:
DTSTAMP:20260419T220312Z
SUMMARY:Warsztaty z Katarzyną Bogucką ''Nasz plakat domowy''
DESCRIPTION:Zapraszamy na warsztaty rodzinne ''Nasz plakat domowy'', które odbędą się 29.02.20 r. o godz. 11:00 w czytelni Instytutu Dizajnu. Zajęcia poprowadzi Katarzyna Bogucka / Nioska. Warsztaty......
URL:https://app.evenea.pl/event/18155-94/
PRIORITY:1
CLASS:PUBLIC
END:VEVENT
END:VCALENDAR
