BEGIN:VCALENDAR
VERSION:2.0
METHOD:PUBLISH
BEGIN:VEVENT
DTSTART:20230926T100000
DTEND:20230926T130000
LOCATION:Gdański Inkubator Przedsiębiorczości STARTER Lęborska 3b  Gdańsk
TRANSP: OPAQUE
SEQUENCE:0
UID:
DTSTAMP:20260419T184033Z
SUMMARY:I Pomorskie Forum ESG
DESCRIPTION:Zapraszamy na I Pomorskie Forum ESG organizowane przez Wydział Ekonomiczny Uniwersytetu Gdańskiego, Gdański Inkubator Przedsiębiorczości STARTER, Moore Polska i Univentum Labs! Temat ESG jest......
URL:https://app.evenea.pl/event/182362-1/
PRIORITY:1
CLASS:PUBLIC
END:VEVENT
END:VCALENDAR
