BEGIN:VCALENDAR
VERSION:2.0
METHOD:PUBLISH
BEGIN:VEVENT
DTSTART:20220909T000000
DTEND:20220909T000000
LOCATION:Młyny Rothera / Klub MÓZG Mennica 10 / Gdańska 10  Bydgoszcz
TRANSP: OPAQUE
SEQUENCE:0
UID:
DTSTAMP:20260419T161914Z
SUMMARY:18th MÓZG Festival - 𝘿𝙊 𝙉𝙊𝙏 𝙁𝙊𝙍𝙂𝙀𝙏 𝙏𝙊 𝙆𝙀𝙀𝙋 𝙔𝙊𝙐𝙍 𝙈𝙄𝙉𝘿 𝘾𝙇𝙀𝘼𝙍
DESCRIPTION:Międzynarodowy Festiwal Muzyki Współczesnej i Sztuk Wizualnych Mózg Festival to spotkanie artystów tworzących i poruszających się we wszystkich rejonach muzyki współczesnej, sztuki......
URL:https://app.evenea.pl/event/18thmozgfestival/
PRIORITY:1
CLASS:PUBLIC
END:VEVENT
END:VCALENDAR
