BEGIN:VCALENDAR
VERSION:2.0
METHOD:PUBLISH
BEGIN:VEVENT
DTSTART:20251120T180000
DTEND:20251120T180000
LOCATION:Hotel Ibis Styles Al.Piłsudskiego 25  Białystok
TRANSP: OPAQUE
SEQUENCE:0
UID:
DTSTAMP:20260421T204147Z
SUMMARY:Forever Winter Growth Białystok 20.11.2025r.
DESCRIPTION:20 listopada Białystok, Hotel Ibis Styles, Al.Piłsudskiego 25, godz: 18:00Prelegenci:Dyrektor Jacek KandeferKosmetolog Katarzyna JaniczekLiderzy ForeverGOŚĆ SPECJALNY: Paweł Zagumny -......
URL:https://app.evenea.pl/event/20112025/
PRIORITY:1
CLASS:PUBLIC
END:VEVENT
END:VCALENDAR
