BEGIN:VCALENDAR
VERSION:2.0
METHOD:PUBLISH
BEGIN:VEVENT
DTSTART:20230215T180000
DTEND:20230215T213000
LOCATION:Olivia Business Centre, budynek Olivia Tower, Sky Club (12 piętro) Aleja Grunwaldzka 472  Gdańsk
TRANSP: OPAQUE
SEQUENCE:0
UID:
DTSTAMP:20260420T213706Z
SUMMARY:Z MIŁOŚCI DO REKOMENDACJI - AUTORSKI WIECZÓR NETWORKINGOWY
DESCRIPTION:Dużo networkingu i … jeszcze więcej networkingu 😊Zapraszamy do udziału w wydarzeniu niezwykłym, nie tylko ze względu na jego charakter i miejsce odbywania się, ale przede wszystkim......
URL:https://app.evenea.pl/event/20230215-eventworking/
PRIORITY:1
CLASS:PUBLIC
END:VEVENT
END:VCALENDAR
