BEGIN:VCALENDAR
VERSION:2.0
METHOD:PUBLISH
BEGIN:VEVENT
DTSTART:20230620T100000
DTEND:20230620T100000
LOCATION:Europejskie Centrum Solidarności - Audytorium pl. Solidarności 1  Gdańsk
TRANSP: OPAQUE
SEQUENCE:0
UID:
DTSTAMP:20260425T010240Z
SUMMARY:Poradnictwo zawodowe a rozwój umiejętności - konferencja
DESCRIPTION:W ramach ogólnopolskiego Konwentu Dyrektorów Wojewódzkich Urzędów Pracy 20.06.2023 r. w Europejskim Centrum Solidarności w godzinach 10.00-14.00 odbędzie się Konferencja pt. "Poradnictwo......
URL:https://app.evenea.pl/event/2023konferencjawup/
PRIORITY:1
CLASS:PUBLIC
END:VEVENT
END:VCALENDAR
