BEGIN:VCALENDAR
VERSION:2.0
METHOD:PUBLISH
BEGIN:VEVENT
DTSTART:20260425T131500
DTEND:20260425T171500
LOCATION:Dozbud Arena Juliusza Słowackiego 21  Ząbki
TRANSP: OPAQUE
SEQUENCE:0
UID:
DTSTAMP:20260421T180037Z
SUMMARY:Futbol Amerykański: Warsaw Eagles vs Lowlanders Białystok
DESCRIPTION:Zapraszamy na kolejny mecz domowy Warsaw Eagles w sezonie 2026🏈Mistrzowie Polski drużyna Orłów podejmie 3-krotnych Mistrzów Polski - drużynę Lowlanders Białystok❗Poza emocjami na boisku......
URL:https://app.evenea.pl/event/2026-eagles-lowlanders/
PRIORITY:1
CLASS:PUBLIC
END:VEVENT
END:VCALENDAR
