BEGIN:VCALENDAR
VERSION:2.0
METHOD:PUBLISH
BEGIN:VEVENT
DTSTART:20221215T180000
DTEND:20221215T180000
LOCATION:PPNT Gdynia | budynek II | sala morska al. Zwycięstwa 96/98  Gdynia
TRANSP: OPAQUE
SEQUENCE:0
UID:
DTSTAMP:20260422T150650Z
SUMMARY:Wykład: W stronę miejskiej odporności. Jak zachować nadzieję w czasach kryzysów | Joanna Erbel
DESCRIPTION:Wykład: W stronę miejskiej odporności. Jak zachować nadzieję w czasach kryzysów | Joanna Erbel Przyjdź do PPNT Gdynia i posłuchaj wykładu zamykającego wystawę 20 projektów......
URL:https://app.evenea.pl/event/208088-32611/
PRIORITY:1
CLASS:PUBLIC
END:VEVENT
END:VCALENDAR
