BEGIN:VCALENDAR
VERSION:2.0
METHOD:PUBLISH
BEGIN:VEVENT
DTSTART:20231213T170000
DTEND:20231213T183000
LOCATION:PPNT Gdynia | budynek III | sala kinowa al. Zwycięstwa 96/98  Gdynia
TRANSP: OPAQUE
SEQUENCE:0
UID:
DTSTAMP:20260426T025935Z
SUMMARY:Spotkanie Dialogi z przyszłością. Życie po komfortocenie
DESCRIPTION:Spotkanie: Dialogi z przyszłością. Życie po komfortocenieJuż 13 grudnia zapraszamy na kolejne wydarzenie z cyklu "Dialogi z przyszłością", podczas którego Bogna Świątkowska rozmawiać......
URL:https://app.evenea.pl/event/208088-340/
PRIORITY:1
CLASS:PUBLIC
END:VEVENT
END:VCALENDAR
