BEGIN:VCALENDAR
VERSION:2.0
METHOD:PUBLISH
BEGIN:VEVENT
DTSTART:20220219T100000
DTEND:20220220T140000
LOCATION:FabLab Trójmiasto Aleja Zwycięstwa 291  Gdynia
TRANSP: OPAQUE
SEQUENCE:0
UID:
DTSTAMP:20260423T073610Z
SUMMARY:Hobby Horse- weekendowe warsztaty szycia konika na kiju
DESCRIPTION:Weekendowe warsztaty szycia Hobby Horse, czyli koni na kiju (lajkoników).Wszystkie miłośniczki koni, skakania i biegania zapraszamy na zajęcia, na których wspólnie uszyjecie swojego Hobby......
URL:https://app.evenea.pl/event/208272-309/
PRIORITY:1
CLASS:PUBLIC
END:VEVENT
END:VCALENDAR
