BEGIN:VCALENDAR
VERSION:2.0
METHOD:PUBLISH
BEGIN:VEVENT
DTSTART:20240501T190000
DTEND:20240501T210000
LOCATION:Winnica Zbrodzice Zbrodzice 82  Zbrodzice k. Buska-Zdroju
TRANSP: OPAQUE
SEQUENCE:0
UID:
DTSTAMP:20260426T002248Z
SUMMARY:20lecie Winnicy Zbrodzice. Degustacja starych roczników
DESCRIPTION:Odkryj Świat Winnicy ZbrodziceWinnica Zbrodzice to nie tylko miejsce, to doświadczenie. Rozpoczynając jako pierwsi w Polsce, dziś jesteśmy dumni z naszej bogatej historii i unikalnej gamy......
URL:https://app.evenea.pl/event/20leciewinnicy/
PRIORITY:1
CLASS:PUBLIC
END:VEVENT
END:VCALENDAR
