BEGIN:VCALENDAR
VERSION:2.0
METHOD:PUBLISH
BEGIN:VEVENT
DTSTART:20240502T180000
DTEND:20240502T193000
LOCATION:Winnica Zbrodzice Zbrodzice 82  Zbrodzice k. Buska-Zdroju
TRANSP: OPAQUE
SEQUENCE:0
UID:
DTSTAMP:20260426T003018Z
SUMMARY:Kameralny koncert. Artyści dla Winnicy.
DESCRIPTION:Odkryj Świat Winnicy ZbrodziceWinnica Zbrodzice to nie tylko miejsce, to doświadczenie. Rozpoczynając jako pierwsi w Polsce, dziś jesteśmy dumni z naszej bogatej historii i unikalnej gamy......
URL:https://app.evenea.pl/event/20leciewinnicykoncert/
PRIORITY:1
CLASS:PUBLIC
END:VEVENT
END:VCALENDAR
