BEGIN:VCALENDAR
VERSION:2.0
METHOD:PUBLISH
BEGIN:VEVENT
DTSTART:20200321T200000
DTEND:20200321T230000
LOCATION:Dwór Sieraków Sieraków 233  32-410 Dobczyce
TRANSP: OPAQUE
SEQUENCE:0
UID:
DTSTAMP:20260422T074358Z
SUMMARY:Noc Wina: "Wiosna na talerzu i w kieliszku" | Tematyczna kolacja z degustacją win
DESCRIPTION:21 marzec 2020 r., godzina 20:00 Dwór Sieraków ****Noc Wina: "Wiosna na talerzu i w kieliszku" Wiosenne menu przygotuje szef kuchni Dworu Sieraków Janusz Fic W kieliszkach pojawia się......
URL:https://app.evenea.pl/event/210320-231119/
PRIORITY:1
CLASS:PUBLIC
END:VEVENT
END:VCALENDAR
