BEGIN:VCALENDAR
VERSION:2.0
METHOD:PUBLISH
BEGIN:VEVENT
DTSTART:20200409T173000
DTEND:20200409T203000
LOCATION:on-line   
TRANSP: OPAQUE
SEQUENCE:0
UID:
DTSTAMP:20260421T134955Z
SUMMARY:Jak radzić sobie z trudnościami zachowując wewnętrzną równowagę? - warsztat on-line dla kobiet
DESCRIPTION:Jesteś ciekawa, co sprawia, że niektórzy ludzie lepiej radzą sobie w sytuacjach trudnych, w obliczu kryzysów, zmian i wyzwań?Chciałabyś zweryfikować, jak wyglądają Twoje predyspozycje w......
URL:https://app.evenea.pl/event/220503-5kopia1/
PRIORITY:1
CLASS:PUBLIC
END:VEVENT
END:VCALENDAR
