BEGIN:VCALENDAR
VERSION:2.0
METHOD:PUBLISH
BEGIN:VEVENT
DTSTART:20210722T190000
DTEND:20210722T190000
LOCATION:Kino "Paradox" Krupnicza 38  Kraków
TRANSP: OPAQUE
SEQUENCE:0
UID:
DTSTAMP:20260421T103451Z
SUMMARY:Безкоштовний показ фільму "Вусатий фанк" / 22.07.21 Kraków / Bezpłatny pokaz filmu "Wąsaty funk"
DESCRIPTION:UA"Вусатий фанк" Наприкінці шістдесятих років минулого сторіччя, після періоду «відлиги», в СРСР почали......
URL:https://app.evenea.pl/event/220721-01/
PRIORITY:1
CLASS:PUBLIC
END:VEVENT
END:VCALENDAR
