BEGIN:VCALENDAR
VERSION:2.0
METHOD:PUBLISH
BEGIN:VEVENT
DTSTART:20141001T200000
DTEND:20141001T200000
LOCATION:KOTKAROLA Plac Bawół 4  Kraków
TRANSP: OPAQUE
SEQUENCE:0
UID:
DTSTAMP:20260424T181822Z
SUMMARY:MĘSKIE CHLANIE w Kocie!!!
DESCRIPTION:już w najbliższą środę 1X rozpoczynamy MĘSKIE CHLANIE! Cykliczny program dla prawdziwych mężczyzn i nie tylko...\ndobra muza, alkohol, Liga Mistrzów, kreskówki dla dorosłych, śledzik, a......
URL:https://app.evenea.pl/event/22588-35510-783605755015390/
PRIORITY:1
CLASS:PUBLIC
END:VEVENT
END:VCALENDAR
