BEGIN:VCALENDAR
VERSION:2.0
METHOD:PUBLISH
BEGIN:VEVENT
DTSTART:20161016T200000
DTEND:20161016T230000
LOCATION:Teatr Łaźnia Nowa Osiedle Szkolne 25 31-977 Kraków
TRANSP: OPAQUE
SEQUENCE:0
UID:
DTSTAMP:20260420T160410Z
SUMMARY:Raz Dwa Trzy - koncert w auli AGH - Pawilon U2
DESCRIPTION:Bilety na koncert są dostępne w punktach na Kampusie AGH: w Klubie Gwarek, w Klubie Filutek, w Biurze URSS AGH i Dziale Socjalnym AGH. \n\nCeny biletów:\nULGOWE: 40 zł (do 16 września) / 45......
URL:https://app.evenea.pl/event/22588-65660-670600613099602/
PRIORITY:1
CLASS:PUBLIC
END:VEVENT
END:VCALENDAR
