BEGIN:VCALENDAR
VERSION:2.0
METHOD:PUBLISH
BEGIN:VEVENT
DTSTART:20200926T120000
DTEND:20200926T120000
LOCATION:filia nr 4 ul. Barnima 25  Szczecin
TRANSP: OPAQUE
SEQUENCE:0
UID:
DTSTAMP:20260421T172628Z
SUMMARY:OKOlice Literatury 2020: spotkanie dla dzieci z Katarzyną Ryrych
DESCRIPTION:W dniach 25-27 września 2020 zapraszamy na drugą edycję festiwalowych spotkań z literaturą non-fiction "OKOlice Literatury". Tematem przewodnim tej odsłony są granice i pogranicza.26......
URL:https://app.evenea.pl/event/232956-dzieci/
PRIORITY:1
CLASS:PUBLIC
END:VEVENT
END:VCALENDAR
