BEGIN:VCALENDAR
VERSION:2.0
METHOD:PUBLISH
BEGIN:VEVENT
DTSTART:20200926T160000
DTEND:20200926T160000
LOCATION:ProMedia al. Wojska Polskiego 2  Szczecin
TRANSP: OPAQUE
SEQUENCE:0
UID:
DTSTAMP:20260421T173821Z
SUMMARY:OKOlice Literatury 2020: Cezary Łazarewicz (tłum. na jęz. migowy)
DESCRIPTION: W dniach 25-27 września 2020 zapraszamy na drugą edycję festiwalowych spotkań z literaturą non-fiction "OKOlice Literatury". Tematem przewodnim tej odsłony są granice i pogranicza.Spotkanie......
URL:https://app.evenea.pl/event/232956-lazarewicz/
PRIORITY:1
CLASS:PUBLIC
END:VEVENT
END:VCALENDAR
