BEGIN:VCALENDAR
VERSION:2.0
METHOD:PUBLISH
BEGIN:VEVENT
DTSTART:20250324T100000
DTEND:20250324T180000
LOCATION:Evenea   
TRANSP: OPAQUE
SEQUENCE:0
UID:
DTSTAMP:20260422T055041Z
SUMMARY:Strategia Marki Personalnej - Szkolenie Online
DESCRIPTION:Skoro dotarłaś/eś do tego miejsca, to zakładam, że jesteś osobą stawiającą mocno na swój rozwój.To dla mnie niezwykła przyjemność, kiedy mogę pracować właśnie z takimi osobami jak......
URL:https://app.evenea.pl/event/24-03-2025/
PRIORITY:1
CLASS:PUBLIC
END:VEVENT
END:VCALENDAR
