BEGIN:VCALENDAR
VERSION:2.0
METHOD:PUBLISH
BEGIN:VEVENT
DTSTART:20231125T100000
DTEND:20231126T173000
LOCATION:Instytut Psychologii Uniwersytetu Śląskiego w Katowicach Grażyńskiego 53  Katowice
TRANSP: OPAQUE
SEQUENCE:0
UID:
DTSTAMP:20260422T150530Z
SUMMARY:WEEKENDOWY KURS SELF-COMPASSION
DESCRIPTION:O kursie: Self-compassion bywa tłumaczone na język polski jako samowspółczucie lub współczucie dla samego siebie. Bywa często mylone z użalaniem się nad sobą, litowaniem czy nadmiernym......
URL:https://app.evenea.pl/event/244779-25/
PRIORITY:1
CLASS:PUBLIC
END:VEVENT
END:VCALENDAR
