BEGIN:VCALENDAR
VERSION:2.0
METHOD:PUBLISH
BEGIN:VEVENT
DTSTART:20240927T180000
DTEND:20240927T180000
LOCATION:Kino Rialto ul.Dąbrowskiego 38  Poznań
TRANSP: OPAQUE
SEQUENCE:0
UID:
DTSTAMP:20260422T120857Z
SUMMARY:Gala IX Festiwalu Filmów Odpowiedzialnych "17 Celów",
DESCRIPTION:Fundacja CSR Res Severa, organizator 9. edycji Festiwalu Filmów Odpowiedzialnych"17 Celów" zapraszana Galę Finałową tego wyjątkowego wydarzenia. Gala odbędzie się 27 września 2024 r.......
URL:https://app.evenea.pl/event/255790-34/
PRIORITY:1
CLASS:PUBLIC
END:VEVENT
END:VCALENDAR
