BEGIN:VCALENDAR
VERSION:2.0
METHOD:PUBLISH
BEGIN:VEVENT
DTSTART:20240922T170000
DTEND:20240922T170000
LOCATION:Kino Bułgarska 19 ul. Bułgarska 19  Poznań
TRANSP: OPAQUE
SEQUENCE:0
UID:
DTSTAMP:20260422T120908Z
SUMMARY:Inauguracja Festiwalu Filmów Odpowiedzialnych "17 Celów".
DESCRIPTION:Film - niespodzianka! Pełnometrażowy film dokumentalny. Lekka, prosta i wzruszająca historia mocno korespondująca z tegoroczną nagrodą specjalną Festiwalu. Pokaz poprzedzony krótką......
URL:https://app.evenea.pl/event/255790-35/
PRIORITY:1
CLASS:PUBLIC
END:VEVENT
END:VCALENDAR
