BEGIN:VCALENDAR
VERSION:2.0
METHOD:PUBLISH
BEGIN:VEVENT
DTSTART:20240924T114000
DTEND:20240924T114000
LOCATION:ZOOM   
TRANSP: OPAQUE
SEQUENCE:0
UID:
DTSTAMP:20260422T120745Z
SUMMARY:Przegląd Filmów Obywatelskich
DESCRIPTION:Przegląd Filmów Obywatelskich - lekcja pokazowa dla klas VII i VIII szkół podstawowych oraz klas i i II szkół ponadpodstawowych.Krótkie przedstawienie dobrych praktyk z edukacji......
URL:https://app.evenea.pl/event/255790-36/
PRIORITY:1
CLASS:PUBLIC
END:VEVENT
END:VCALENDAR
