BEGIN:VCALENDAR
VERSION:2.0
METHOD:PUBLISH
BEGIN:VEVENT
DTSTART:20240925T114000
DTEND:20240925T114000
LOCATION:ZOOM   
TRANSP: OPAQUE
SEQUENCE:0
UID:
DTSTAMP:20260422T120811Z
SUMMARY:Przegląd Filmów Odpowiedzialnych
DESCRIPTION:Przegląd Filmów Odpowiedzialnych - lekcja pokazowa dla klas VII i VIII szkół klas i i II szkół ponadpodstawowych.Krótkie przedstawienie dobrych praktyk ze zrównoważonego rozwoju na bazie......
URL:https://app.evenea.pl/event/255790-37/
PRIORITY:1
CLASS:PUBLIC
END:VEVENT
END:VCALENDAR
