BEGIN:VCALENDAR
VERSION:2.0
METHOD:PUBLISH
BEGIN:VEVENT
DTSTART:20250925T100000
DTEND:20250925T150000
LOCATION:Siedziba AEDMAX.PL Sokołowska 47C  Sokołów k.Warszawy
TRANSP: OPAQUE
SEQUENCE:0
UID:
DTSTAMP:20260424T183838Z
SUMMARY:Stwórz bezpieczny i odpowiedzialny biznes
DESCRIPTION:📋 Jak Twoja firma może realnie chronić życie📅 Zapraszamy na bezpłatne, praktyczne warsztaty z pierwszej pomocy, zaprojektowane specjalnie z myślą o osobach odpowiedzialnych za......
URL:https://app.evenea.pl/event/25wrzesniahr/
PRIORITY:1
CLASS:PUBLIC
END:VEVENT
END:VCALENDAR
