BEGIN:VCALENDAR
VERSION:2.0
METHOD:PUBLISH
BEGIN:VEVENT
DTSTART:20251126T180000
DTEND:20251126T180000
LOCATION:Hotel Rzeszów Al. J.Piłsudskiego 44  Rzeszów
TRANSP: OPAQUE
SEQUENCE:0
UID:
DTSTAMP:20260421T204040Z
SUMMARY:Forever Winter Growth Rzeszów 26.11.2025r.
DESCRIPTION:26 listopada Rzeszów, Hotel Rzeszów, Al. J.Piłsudskiego 44, godz: 18:00Prelegenci:Dyrektor Jacek KandeferKosmetolog Katarzyna JaniczekLiderzy ForeverGoście specjalniDołącz bezpłatnie.......
URL:https://app.evenea.pl/event/2611/
PRIORITY:1
CLASS:PUBLIC
END:VEVENT
END:VCALENDAR
