BEGIN:VCALENDAR
VERSION:2.0
METHOD:PUBLISH
BEGIN:VEVENT
DTSTART:20251127T180000
DTEND:20251127T180000
LOCATION:Hotel Hyatt Place Al. 3 Maja 47a  Kraków
TRANSP: OPAQUE
SEQUENCE:0
UID:
DTSTAMP:20260421T204153Z
SUMMARY:Forever Winter Growth Kraków 27.11.2025r.
DESCRIPTION:27 listopada Kraków, Hotel Hyatt Place, Al. 3 Maja 47a, godz: 18:00Prelegenci:Dyrektor Jacek KandeferKosmetolog Katarzyna JaniczekLiderzy ForeverGoście specjalniDołącz bezpłatnie. Zarejestruj......
URL:https://app.evenea.pl/event/27112025/
PRIORITY:1
CLASS:PUBLIC
END:VEVENT
END:VCALENDAR
