BEGIN:VCALENDAR
VERSION:2.0
METHOD:PUBLISH
BEGIN:VEVENT
DTSTART:20260211T150000
DTEND:20260211T163000
LOCATION:Bankowiec i Mini Muzeum 3 Maja 27  Gdynia
TRANSP: OPAQUE
SEQUENCE:0
UID:
DTSTAMP:20260424T144014Z
SUMMARY:"BANKOWIEC i Mini Muzeum" | 2 urodzinowy Archi-Tour z przewodnikami
DESCRIPTION:W imieniu Mini Muzeum oraz Gdyńskiego Szlaku Modernizmu, serdecznie zapraszamy na urodzinowy Archi-Tour, w czasie którego odwiedziny modernistyczną perłę Gdyni - wielomieszkaniowy kompleks......
URL:https://app.evenea.pl/event/2bankowiec2026/
PRIORITY:1
CLASS:PUBLIC
END:VEVENT
END:VCALENDAR
