BEGIN:VCALENDAR
VERSION:2.0
METHOD:PUBLISH
BEGIN:VEVENT
DTSTART:20240811T120000
DTEND:20240811T120000
LOCATION:Dobre Miejsce - Katolickie Centrum Kultury Dewajtis 3 (wej.B)  Warszawa
TRANSP: OPAQUE
SEQUENCE:0
UID:
DTSTAMP:20260423T041151Z
SUMMARY:Spacer po Eremie Pokamedulskim  - II TURA
DESCRIPTION:EREM KAMEDULSKI NA BIELANACH W FOTOGRAFIACH LEONA BARSZCZEWSKIEGODATA 1: 13.07.2024, godz. 13.00DATA 2: 11.08.2024, godz. 12:00MIEJSCE ZBIÓRKI: Plac przed Kościołem, ul. Dewajtis 3, Parafia bł.......
URL:https://app.evenea.pl/event/2spacerpoeremiekopia1/
PRIORITY:1
CLASS:PUBLIC
END:VEVENT
END:VCALENDAR
