BEGIN:VCALENDAR
VERSION:2.0
METHOD:PUBLISH
BEGIN:VEVENT
DTSTART:20251203T180000
DTEND:20251203T180000
LOCATION:Concordia Design ul. Zwierzyniecka 3  Poznań
TRANSP: OPAQUE
SEQUENCE:0
UID:
DTSTAMP:20260421T203509Z
SUMMARY:Forever Winter Growth Poznań 3.12.2025r.
DESCRIPTION:3 grudnia Poznań, Concordia Design, ul. Zwierzyniecka 3, godz: 18:00Prelegenci:Dyrektor Jacek KandeferKosmetolog Katarzyna JaniczekLiderzy ForeverGoście specjalni Dołącz bezpłatnie.......
URL:https://app.evenea.pl/event/3122025/
PRIORITY:1
CLASS:PUBLIC
END:VEVENT
END:VCALENDAR
