BEGIN:VCALENDAR
VERSION:2.0
METHOD:PUBLISH
BEGIN:VEVENT
DTSTART:20191212T170000
DTEND:20191212T170000
LOCATION:Kaszubski Inkubator Przedsiębiorczości Podzamcze 34  77-100 Bytów
TRANSP: OPAQUE
SEQUENCE:0
UID:
DTSTAMP:20260423T214926Z
SUMMARY:Z mózgiem Ci do twarzy - Twój naturalny potencjał
DESCRIPTION:🏫BYTÓW#acolumbusCzy zdarzało Ci się rozmawiać z inną osobą, a miałeś/aś wrażenie że nic z tego nie rozumiesz? Albo w żadnym stopniu nie byłeś/aś w stanie pojąć dlaczego ktoś......
URL:https://app.evenea.pl/event/329827-162/
PRIORITY:1
CLASS:PUBLIC
END:VEVENT
END:VCALENDAR
