BEGIN:VCALENDAR
VERSION:2.0
METHOD:PUBLISH
BEGIN:VEVENT
DTSTART:20250612T190000
DTEND:20250612T220000
LOCATION:Outriders Klub Rokosowska 8  Warszawa
TRANSP: OPAQUE
SEQUENCE:0
UID:
DTSTAMP:20260426T010749Z
SUMMARY:Pytania o Strefę Gazy, Palestynę, Izrael — katastrofa cywilów, reakcja świata, wpływ polityki, odpowiedzialność mediów [Kontekst]
DESCRIPTION:Wojna w Strefie Gazy osiągnęła krytyczny moment. Ponad 70% Strefy zostało zrównane z ziemią, ponad dwa miliony mieszkańców zostało wewnętrznie przesiedlonych, a od momentu zerwania......
URL:https://app.evenea.pl/event/34602-44/
PRIORITY:1
CLASS:PUBLIC
END:VEVENT
END:VCALENDAR
