BEGIN:VCALENDAR
VERSION:2.0
METHOD:PUBLISH
BEGIN:VEVENT
DTSTART:20231209T170000
DTEND:20240109T180000
LOCATION:Nadbałtyckie Centrum Kultury Korzenna 33/35  Gdańsk
TRANSP: OPAQUE
SEQUENCE:0
UID:
DTSTAMP:20260422T184635Z
SUMMARY:"Historie w dziecięcych rysunkach" - wykład dla rodziców o rozwoju kreatywności u dzieci | Zajęcia edukacyjne do wystawy "Trzy historie"
DESCRIPTION:"Historie w dziecięcych rysunkach" - wykład dla rodziców o rozwoju kreatywności u dzieciProwadzenie: dr Magdalena Chrzan- DetkośJak psychologowie korzystają z twórczości dzieci w swojej......
URL:https://app.evenea.pl/event/352247-105/
PRIORITY:1
CLASS:PUBLIC
END:VEVENT
END:VCALENDAR
