BEGIN:VCALENDAR
VERSION:2.0
METHOD:PUBLISH
BEGIN:VEVENT
DTSTART:20220815T150000
DTEND:20220815T150000
LOCATION:Łowicki Park Etnograficzny w Maurzycach   
TRANSP: OPAQUE
SEQUENCE:0
UID:
DTSTAMP:20260421T135153Z
SUMMARY:"Deptane po drodze - roślinność skansenu w Maurzycach" - spacer | Remusowa kara, czyli Pomorze w podróży
DESCRIPTION:Termin: 15.08.2022, godz. 15:00-16:00Bilety: wstęp bezpłatny, liczba miejsc ograniczonaProwadzenie: Gosia Zamorska-MisztalMiejsce: Łowicki Park Etnograficzny w Maurzycach (oddział Muzeum w......
URL:https://app.evenea.pl/event/352247-76/
PRIORITY:1
CLASS:PUBLIC
END:VEVENT
END:VCALENDAR
